BEGIN:VCALENDAR
VERSION:2.0
PRODID:-//Bargteheider Tennis-Club - ECPv6.15.17.1//NONSGML v1.0//EN
CALSCALE:GREGORIAN
METHOD:PUBLISH
X-ORIGINAL-URL:https://bargteheider-tennisclub.de
X-WR-CALDESC:Veranstaltungen für Bargteheider Tennis-Club
REFRESH-INTERVAL;VALUE=DURATION:PT1H
X-Robots-Tag:noindex
X-PUBLISHED-TTL:PT1H
BEGIN:VTIMEZONE
TZID:Europe/Berlin
BEGIN:DAYLIGHT
TZOFFSETFROM:+0100
TZOFFSETTO:+0200
TZNAME:CEST
DTSTART:20250330T010000
END:DAYLIGHT
BEGIN:STANDARD
TZOFFSETFROM:+0200
TZOFFSETTO:+0100
TZNAME:CET
DTSTART:20251026T010000
END:STANDARD
BEGIN:DAYLIGHT
TZOFFSETFROM:+0100
TZOFFSETTO:+0200
TZNAME:CEST
DTSTART:20260329T010000
END:DAYLIGHT
BEGIN:STANDARD
TZOFFSETFROM:+0200
TZOFFSETTO:+0100
TZNAME:CET
DTSTART:20261025T010000
END:STANDARD
BEGIN:DAYLIGHT
TZOFFSETFROM:+0100
TZOFFSETTO:+0200
TZNAME:CEST
DTSTART:20270328T010000
END:DAYLIGHT
BEGIN:STANDARD
TZOFFSETFROM:+0200
TZOFFSETTO:+0100
TZNAME:CET
DTSTART:20271031T010000
END:STANDARD
END:VTIMEZONE
BEGIN:VEVENT
DTSTART;TZID=Europe/Berlin:20260221T130000
DTEND;TZID=Europe/Berlin:20260221T170000
DTSTAMP:20260421T133910
CREATED:20260213T135549Z
LAST-MODIFIED:20260213T135549Z
UID:5067-1771678800-1771693200@bargteheider-tennisclub.de
SUMMARY:Jugendfördertraining
DESCRIPTION:AUSGEBUCHT! Jetzt auf die Warteliste eintragen!  \nDer BTC bietet allen Jugendlichen des Vereins ein kostenfreies Training an (Plätze begrenzt)! \nSeid dabei\, bleibt am Ball. 🙂 \nAnmeldung hier: https://kikudoo.com/btc/courses/QxYwoW
URL:https://bargteheider-tennisclub.de/event/jugendfoerdertraining/
LOCATION:Freizeitzentrum Lohe\, Robert Bosch Weg 2\, Bargteheide\, 22941
CATEGORIES:Event
ATTACH;FMTTYPE=image/jpeg:https://bargteheider-tennisclub.de/wp-content/uploads/2026/02/Viele_Baelle_Lohe.jpg
END:VEVENT
END:VCALENDAR